BEGIN:VCALENDAR
VERSION:2.0
PRODID:-//Ulli Lohr - ECPv6.15.20//NONSGML v1.0//EN
CALSCALE:GREGORIAN
METHOD:PUBLISH
X-WR-CALNAME:Ulli Lohr
X-ORIGINAL-URL:https://www.ulli-lohr.de
X-WR-CALDESC:Veranstaltungen für Ulli Lohr
REFRESH-INTERVAL;VALUE=DURATION:PT1H
X-Robots-Tag:noindex
X-PUBLISHED-TTL:PT1H
BEGIN:VTIMEZONE
TZID:Europe/Berlin
BEGIN:DAYLIGHT
TZOFFSETFROM:+0100
TZOFFSETTO:+0200
TZNAME:CEST
DTSTART:20250330T010000
END:DAYLIGHT
BEGIN:STANDARD
TZOFFSETFROM:+0200
TZOFFSETTO:+0100
TZNAME:CET
DTSTART:20251026T010000
END:STANDARD
BEGIN:DAYLIGHT
TZOFFSETFROM:+0100
TZOFFSETTO:+0200
TZNAME:CEST
DTSTART:20260329T010000
END:DAYLIGHT
BEGIN:STANDARD
TZOFFSETFROM:+0200
TZOFFSETTO:+0100
TZNAME:CET
DTSTART:20261025T010000
END:STANDARD
BEGIN:DAYLIGHT
TZOFFSETFROM:+0100
TZOFFSETTO:+0200
TZNAME:CEST
DTSTART:20270328T010000
END:DAYLIGHT
BEGIN:STANDARD
TZOFFSETFROM:+0200
TZOFFSETTO:+0100
TZNAME:CET
DTSTART:20271031T010000
END:STANDARD
END:VTIMEZONE
BEGIN:VEVENT
DTSTART;TZID=Europe/Berlin:20260301T190000
DTEND;TZID=Europe/Berlin:20260301T210000
DTSTAMP:20260420T190044
CREATED:20251105T160937Z
LAST-MODIFIED:20251105T160937Z
UID:2438-1772391600-1772398800@www.ulli-lohr.de
SUMMARY:Kleinkunstcocktail\, Gastauftritt im Zimmertheater-Steglitz
DESCRIPTION:
URL:https://www.ulli-lohr.de/event/kleinkunstcocktail-gastauftritt-im-zimmertheater-steglitz-2/
LOCATION:Zimmertheater Steglitz\, Bornstraße 17\,\, Berlin\, Berlin\, 12163
CATEGORIES:Show Termine
END:VEVENT
BEGIN:VEVENT
DTSTART;TZID=Europe/Berlin:20260302T193000
DTEND;TZID=Europe/Berlin:20260302T220000
DTSTAMP:20260420T190044
CREATED:20260301T132442Z
LAST-MODIFIED:20260301T132442Z
UID:2487-1772479800-1772488800@www.ulli-lohr.de
SUMMARY:Gastauftritt BESTE COMEDY\, Berlin
DESCRIPTION:StandUpComedy Mix Show
URL:https://www.ulli-lohr.de/event/gastauftritt-beste-comedy-berlin/
LOCATION:Beste Bar Comedy\, BESTE Bar Willdenowstraße 12A\, 13353 Berlin\, Berlin\, 13353\, Germany
CATEGORIES:Show Termine
END:VEVENT
BEGIN:VEVENT
DTSTART;TZID=Europe/Berlin:20260307T200000
DTEND;TZID=Europe/Berlin:20260307T220000
DTSTAMP:20260420T190044
CREATED:20260225T153246Z
LAST-MODIFIED:20260225T153246Z
UID:2469-1772913600-1772920800@www.ulli-lohr.de
SUMMARY:Gastauftritt Scheinbar Varieté\, Berlin
DESCRIPTION:
URL:https://www.ulli-lohr.de/event/gastauftritt-scheinbar-variete-berlin-24/
LOCATION:Scheinbar Varieté \, Berlin\, Monumentenst. 9\, 10829 Berlin\, 10829
CATEGORIES:Show Termine
END:VEVENT
BEGIN:VEVENT
DTSTART;TZID=Europe/Berlin:20260313T200000
DTEND;TZID=Europe/Berlin:20260313T220000
DTSTAMP:20260420T190044
CREATED:20260225T153430Z
LAST-MODIFIED:20260225T153430Z
UID:2471-1773432000-1773439200@www.ulli-lohr.de
SUMMARY:Gastauftritt Scheinbar Varieté\, Berlin
DESCRIPTION:
URL:https://www.ulli-lohr.de/event/gastauftritt-scheinbar-variete-berlin-25/
LOCATION:Scheinbar Varieté \, Berlin\, Monumentenst. 9\, 10829 Berlin\, 10829
CATEGORIES:Show Termine
END:VEVENT
BEGIN:VEVENT
DTSTART;TZID=Europe/Berlin:20260319T200000
DTEND;TZID=Europe/Berlin:20260319T220000
DTSTAMP:20260420T190044
CREATED:20260225T153548Z
LAST-MODIFIED:20260225T153548Z
UID:2473-1773950400-1773957600@www.ulli-lohr.de
SUMMARY:Gastauftritt Scheinbar Varieté\, Berlin
DESCRIPTION:
URL:https://www.ulli-lohr.de/event/gastauftritt-scheinbar-variete-berlin-26/
LOCATION:Scheinbar Varieté \, Berlin\, Monumentenst. 9\, 10829 Berlin\, 10829
CATEGORIES:Show Termine
END:VEVENT
BEGIN:VEVENT
DTSTART;TZID=Europe/Berlin:20260325T193000
DTEND;TZID=Europe/Berlin:20260325T220000
DTSTAMP:20260420T190044
CREATED:20260301T133538Z
LAST-MODIFIED:20260301T133538Z
UID:2491-1774467000-1774476000@www.ulli-lohr.de
SUMMARY:Gastauftritt Muscle Comedy\, Berlin
DESCRIPTION:
URL:https://www.ulli-lohr.de/event/gastauftritt-muscle-comedy-berlin/
LOCATION:Muscle Comedy\,\, Bloooms Bar\, Detmolder Str. 61\, 10715 Berlin\, Berlin\, Germany
CATEGORIES:Show Termine
END:VEVENT
BEGIN:VEVENT
DTSTART;TZID=Europe/Berlin:20260326T200000
DTEND;TZID=Europe/Berlin:20260326T223000
DTSTAMP:20260420T190044
CREATED:20260225T163348Z
LAST-MODIFIED:20260225T163348Z
UID:2481-1774555200-1774564200@www.ulli-lohr.de
SUMMARY:Gastauftritt\, Klick Cafe\, Berlin Primetime_Comedy mit Kriss Rudolf
DESCRIPTION:
URL:https://www.ulli-lohr.de/event/gastauftritt-klick-cafe-berlin-primetime_comedy-mit-kriss-rudolf/
LOCATION:Klick Cafe\, Windscheidstraße 19\, Berlin\, Berlin\, 10627\, Germany
CATEGORIES:Show Termine
ORGANIZER;CN="Klick cafe":MAILTO:cafe-klick@outlook.com
END:VEVENT
BEGIN:VEVENT
DTSTART;TZID=Europe/Berlin:20260327T200000
DTEND;TZID=Europe/Berlin:20260327T220000
DTSTAMP:20260420T190044
CREATED:20260225T153824Z
LAST-MODIFIED:20260225T153824Z
UID:2475-1774641600-1774648800@www.ulli-lohr.de
SUMMARY:Gastauftritt Scheinbar Varieté\, Berlin
DESCRIPTION:
URL:https://www.ulli-lohr.de/event/gastauftritt-scheinbar-variete-berlin-27/
LOCATION:Scheinbar Varieté \, Berlin\, Monumentenst. 9\, 10829 Berlin\, 10829
CATEGORIES:Show Termine
END:VEVENT
BEGIN:VEVENT
DTSTART;TZID=Europe/Berlin:20260328T200000
DTEND;TZID=Europe/Berlin:20260328T220000
DTSTAMP:20260420T190044
CREATED:20251105T154418Z
LAST-MODIFIED:20251105T154738Z
UID:2418-1774728000-1774735200@www.ulli-lohr.de
SUMMARY:Ein Kellner packt aus\, Soloshow in Berlin
DESCRIPTION:
URL:https://www.ulli-lohr.de/event/ein-kellner-packt-aus-soloshow-in-berlin-2/
LOCATION:Zimmertheater Steglitz\, Bornstraße 17\,\, Berlin\, Berlin\, 12163
CATEGORIES:Show Termine
END:VEVENT
END:VCALENDAR