BEGIN:VCALENDAR
VERSION:2.0
PRODID:-//Ulli Lohr - ECPv6.15.20//NONSGML v1.0//EN
CALSCALE:GREGORIAN
METHOD:PUBLISH
X-WR-CALNAME:Ulli Lohr
X-ORIGINAL-URL:https://www.ulli-lohr.de
X-WR-CALDESC:Veranstaltungen für Ulli Lohr
REFRESH-INTERVAL;VALUE=DURATION:PT1H
X-Robots-Tag:noindex
X-PUBLISHED-TTL:PT1H
BEGIN:VTIMEZONE
TZID:Europe/Berlin
BEGIN:DAYLIGHT
TZOFFSETFROM:+0100
TZOFFSETTO:+0200
TZNAME:CEST
DTSTART:20250330T010000
END:DAYLIGHT
BEGIN:STANDARD
TZOFFSETFROM:+0200
TZOFFSETTO:+0100
TZNAME:CET
DTSTART:20251026T010000
END:STANDARD
BEGIN:DAYLIGHT
TZOFFSETFROM:+0100
TZOFFSETTO:+0200
TZNAME:CEST
DTSTART:20260329T010000
END:DAYLIGHT
BEGIN:STANDARD
TZOFFSETFROM:+0200
TZOFFSETTO:+0100
TZNAME:CET
DTSTART:20261025T010000
END:STANDARD
BEGIN:DAYLIGHT
TZOFFSETFROM:+0100
TZOFFSETTO:+0200
TZNAME:CEST
DTSTART:20270328T010000
END:DAYLIGHT
BEGIN:STANDARD
TZOFFSETFROM:+0200
TZOFFSETTO:+0100
TZNAME:CET
DTSTART:20271031T010000
END:STANDARD
END:VTIMEZONE
BEGIN:VEVENT
DTSTART;TZID=Europe/Berlin:20260116T200000
DTEND;TZID=Europe/Berlin:20260116T220000
DTSTAMP:20260420T222210
CREATED:20260110T082940Z
LAST-MODIFIED:20260110T082940Z
UID:2452-1768593600-1768600800@www.ulli-lohr.de
SUMMARY:Gastauftritt\, Scheinbar Varieté\, Berlin
DESCRIPTION:
URL:https://www.ulli-lohr.de/event/gastauftritt-scheinbar-variete-berlin-6/
LOCATION:Scheinbar Varieté \, Berlin\, Monumentenst. 9\, 10829 Berlin\, 10829
CATEGORIES:Show Termine
END:VEVENT
BEGIN:VEVENT
DTSTART;TZID=Europe/Berlin:20260124T203000
DTEND;TZID=Europe/Berlin:20260124T220000
DTSTAMP:20260420T222210
CREATED:20260110T083057Z
LAST-MODIFIED:20260110T083057Z
UID:2454-1769286600-1769292000@www.ulli-lohr.de
SUMMARY:Gastauftritt\, Scheinbar Varieté\, Berlin
DESCRIPTION:
URL:https://www.ulli-lohr.de/event/gastauftritt-scheinbar-variete-berlin-7/
LOCATION:Scheinbar Varieté \, Berlin\, Monumentenst. 9\, 10829 Berlin\, 10829
CATEGORIES:Show Termine
END:VEVENT
BEGIN:VEVENT
DTSTART;TZID=Europe/Berlin:20260130T200000
DTEND;TZID=Europe/Berlin:20260130T220000
DTSTAMP:20260420T222210
CREATED:20260110T083217Z
LAST-MODIFIED:20260110T083217Z
UID:2456-1769803200-1769810400@www.ulli-lohr.de
SUMMARY:Gastauftritt\, Scheinbar Varieté\, Berlin
DESCRIPTION:
URL:https://www.ulli-lohr.de/event/gastauftritt-scheinbar-variete-berlin-8/
LOCATION:Scheinbar Varieté \, Berlin\, Monumentenst. 9\, 10829 Berlin\, 10829
CATEGORIES:Show Termine
END:VEVENT
END:VCALENDAR