BEGIN:VCALENDAR
VERSION:2.0
PRODID:-//Ulli Lohr - ECPv6.15.20//NONSGML v1.0//EN
CALSCALE:GREGORIAN
METHOD:PUBLISH
X-WR-CALNAME:Ulli Lohr
X-ORIGINAL-URL:https://www.ulli-lohr.de
X-WR-CALDESC:Veranstaltungen für Ulli Lohr
REFRESH-INTERVAL;VALUE=DURATION:PT1H
X-Robots-Tag:noindex
X-PUBLISHED-TTL:PT1H
BEGIN:VTIMEZONE
TZID:Europe/Berlin
BEGIN:DAYLIGHT
TZOFFSETFROM:+0100
TZOFFSETTO:+0200
TZNAME:CEST
DTSTART:20240331T010000
END:DAYLIGHT
BEGIN:STANDARD
TZOFFSETFROM:+0200
TZOFFSETTO:+0100
TZNAME:CET
DTSTART:20241027T010000
END:STANDARD
BEGIN:DAYLIGHT
TZOFFSETFROM:+0100
TZOFFSETTO:+0200
TZNAME:CEST
DTSTART:20250330T010000
END:DAYLIGHT
BEGIN:STANDARD
TZOFFSETFROM:+0200
TZOFFSETTO:+0100
TZNAME:CET
DTSTART:20251026T010000
END:STANDARD
BEGIN:DAYLIGHT
TZOFFSETFROM:+0100
TZOFFSETTO:+0200
TZNAME:CEST
DTSTART:20260329T010000
END:DAYLIGHT
BEGIN:STANDARD
TZOFFSETFROM:+0200
TZOFFSETTO:+0100
TZNAME:CET
DTSTART:20261025T010000
END:STANDARD
END:VTIMEZONE
BEGIN:VEVENT
DTSTART;TZID=Europe/Berlin:20251210T200000
DTEND;TZID=Europe/Berlin:20251210T220000
DTSTAMP:20260420T235730
CREATED:20250701T084757Z
LAST-MODIFIED:20250701T084757Z
UID:2359-1765396800-1765404000@www.ulli-lohr.de
SUMMARY:Moderation\, Scheinbar-Varieté Show\, Berlin
DESCRIPTION:Ulli Lohr moderiert die Open-Stage Varieté Show.
URL:https://www.ulli-lohr.de/event/moderation-scheinbar-variete-show-berlin/
LOCATION:Scheinbar Varieté \, Berlin\, Monumentenst. 9\, 10829 Berlin\, 10829
CATEGORIES:Show Termine
END:VEVENT
BEGIN:VEVENT
DTSTART;TZID=Europe/Berlin:20251211T200000
DTEND;TZID=Europe/Berlin:20251211T220000
DTSTAMP:20260420T235730
CREATED:20250701T084946Z
LAST-MODIFIED:20250701T084946Z
UID:2361-1765483200-1765490400@www.ulli-lohr.de
SUMMARY:Moderation\, Scheinbar-Varieté Show\, Berlin
DESCRIPTION:
URL:https://www.ulli-lohr.de/event/moderation-scheinbar-variete-show-berlin-2/
LOCATION:Scheinbar Varieté \, Berlin\, Monumentenst. 9\, 10829 Berlin\, 10829
CATEGORIES:Show Termine
END:VEVENT
BEGIN:VEVENT
DTSTART;TZID=Europe/Berlin:20251212T200000
DTEND;TZID=Europe/Berlin:20251212T220000
DTSTAMP:20260420T235730
CREATED:20250701T085134Z
LAST-MODIFIED:20250701T085134Z
UID:2363-1765569600-1765576800@www.ulli-lohr.de
SUMMARY:Moderation\, Scheinbar-Varieté Show\, Berlin
DESCRIPTION:
URL:https://www.ulli-lohr.de/event/moderation-scheinbar-variete-show-berlin-3/
LOCATION:Scheinbar Varieté \, Berlin\, Monumentenst. 9\, 10829 Berlin\, 10829
CATEGORIES:Show Termine
END:VEVENT
BEGIN:VEVENT
DTSTART;TZID=Europe/Berlin:20251213T200000
DTEND;TZID=Europe/Berlin:20251213T220000
DTSTAMP:20260420T235730
CREATED:20250701T085357Z
LAST-MODIFIED:20250701T085357Z
UID:2365-1765656000-1765663200@www.ulli-lohr.de
SUMMARY:Moderation\, Scheinbar-Varieté Show\, Berlin
DESCRIPTION:
URL:https://www.ulli-lohr.de/event/moderation-scheinbar-variete-show-berlin-4/
LOCATION:Scheinbar Varieté \, Berlin\, Monumentenst. 9\, 10829 Berlin\, 10829
CATEGORIES:Show Termine
END:VEVENT
END:VCALENDAR