BEGIN:VCALENDAR
VERSION:2.0
PRODID:-//Ulli Lohr - ECPv6.15.20//NONSGML v1.0//EN
CALSCALE:GREGORIAN
METHOD:PUBLISH
X-WR-CALNAME:Ulli Lohr
X-ORIGINAL-URL:https://www.ulli-lohr.de
X-WR-CALDESC:Veranstaltungen für Ulli Lohr
REFRESH-INTERVAL;VALUE=DURATION:PT1H
X-Robots-Tag:noindex
X-PUBLISHED-TTL:PT1H
BEGIN:VTIMEZONE
TZID:Europe/Berlin
BEGIN:DAYLIGHT
TZOFFSETFROM:+0100
TZOFFSETTO:+0200
TZNAME:CEST
DTSTART:20240331T010000
END:DAYLIGHT
BEGIN:STANDARD
TZOFFSETFROM:+0200
TZOFFSETTO:+0100
TZNAME:CET
DTSTART:20241027T010000
END:STANDARD
BEGIN:DAYLIGHT
TZOFFSETFROM:+0100
TZOFFSETTO:+0200
TZNAME:CEST
DTSTART:20250330T010000
END:DAYLIGHT
BEGIN:STANDARD
TZOFFSETFROM:+0200
TZOFFSETTO:+0100
TZNAME:CET
DTSTART:20251026T010000
END:STANDARD
BEGIN:DAYLIGHT
TZOFFSETFROM:+0100
TZOFFSETTO:+0200
TZNAME:CEST
DTSTART:20260329T010000
END:DAYLIGHT
BEGIN:STANDARD
TZOFFSETFROM:+0200
TZOFFSETTO:+0100
TZNAME:CET
DTSTART:20261025T010000
END:STANDARD
END:VTIMEZONE
BEGIN:VEVENT
DTSTART;TZID=Europe/Berlin:20251022T200000
DTEND;TZID=Europe/Berlin:20251022T220000
DTSTAMP:20260421T031816
CREATED:20251001T140914Z
LAST-MODIFIED:20251001T140914Z
UID:2393-1761163200-1761170400@www.ulli-lohr.de
SUMMARY:Gastauftritt\, Scheinbar Varieté Berlin
DESCRIPTION:
URL:https://www.ulli-lohr.de/event/gastauftritt-scheinbar-variete-berlin-16/
LOCATION:Scheinbar Varieté \, Berlin\, Monumentenst. 9\, 10829 Berlin\, 10829
CATEGORIES:Show Termine
END:VEVENT
BEGIN:VEVENT
DTSTART;TZID=Europe/Berlin:20251023T200000
DTEND;TZID=Europe/Berlin:20251023T220000
DTSTAMP:20260421T031816
CREATED:20251001T141015Z
LAST-MODIFIED:20251001T141015Z
UID:2395-1761249600-1761256800@www.ulli-lohr.de
SUMMARY:Gastauftritt\, Scheinbar Varieté Berlin
DESCRIPTION:
URL:https://www.ulli-lohr.de/event/gastauftritt-scheinbar-variete-berlin-17/
LOCATION:Scheinbar Varieté \, Berlin\, Monumentenst. 9\, 10829 Berlin\, 10829
CATEGORIES:Show Termine
END:VEVENT
BEGIN:VEVENT
DTSTART;TZID=Europe/Berlin:20251025T200000
DTEND;TZID=Europe/Berlin:20251025T220000
DTSTAMP:20260421T031816
CREATED:20250408T124003Z
LAST-MODIFIED:20250408T124003Z
UID:2303-1761422400-1761429600@www.ulli-lohr.de
SUMMARY:Ein Kellner packt aus\, Soloshow in Berlin
DESCRIPTION:
URL:https://www.ulli-lohr.de/event/ein-kellner-packt-aus-soloshow-in-berlin-7/
LOCATION:Zimmertheater Steglitz\, Bornstraße 17\,\, Berlin\, Berlin\, 12163
CATEGORIES:Show Termine
END:VEVENT
BEGIN:VEVENT
DTSTART;TZID=Europe/Berlin:20251031T200000
DTEND;TZID=Europe/Berlin:20251031T220000
DTSTAMP:20260421T031816
CREATED:20251023T081120Z
LAST-MODIFIED:20251023T081120Z
UID:2399-1761940800-1761948000@www.ulli-lohr.de
SUMMARY:Gastauftritt\, Scheinbar Varieté Berlin
DESCRIPTION:
URL:https://www.ulli-lohr.de/event/gastauftritt-scheinbar-variete-berlin/
LOCATION:Scheinbar Varieté \, Berlin\, Monumentenst. 9\, 10829 Berlin\, 10829
CATEGORIES:Show Termine
END:VEVENT
END:VCALENDAR