BEGIN:VCALENDAR
VERSION:2.0
PRODID:-//Ulli Lohr - ECPv6.15.20//NONSGML v1.0//EN
CALSCALE:GREGORIAN
METHOD:PUBLISH
X-ORIGINAL-URL:https://www.ulli-lohr.de
X-WR-CALDESC:Veranstaltungen für Ulli Lohr
REFRESH-INTERVAL;VALUE=DURATION:PT1H
X-Robots-Tag:noindex
X-PUBLISHED-TTL:PT1H
BEGIN:VTIMEZONE
TZID:Europe/Berlin
BEGIN:DAYLIGHT
TZOFFSETFROM:+0100
TZOFFSETTO:+0200
TZNAME:CEST
DTSTART:20250330T010000
END:DAYLIGHT
BEGIN:STANDARD
TZOFFSETFROM:+0200
TZOFFSETTO:+0100
TZNAME:CET
DTSTART:20251026T010000
END:STANDARD
BEGIN:DAYLIGHT
TZOFFSETFROM:+0100
TZOFFSETTO:+0200
TZNAME:CEST
DTSTART:20260329T010000
END:DAYLIGHT
BEGIN:STANDARD
TZOFFSETFROM:+0200
TZOFFSETTO:+0100
TZNAME:CET
DTSTART:20261025T010000
END:STANDARD
BEGIN:DAYLIGHT
TZOFFSETFROM:+0100
TZOFFSETTO:+0200
TZNAME:CEST
DTSTART:20270328T010000
END:DAYLIGHT
BEGIN:STANDARD
TZOFFSETFROM:+0200
TZOFFSETTO:+0100
TZNAME:CET
DTSTART:20271031T010000
END:STANDARD
END:VTIMEZONE
BEGIN:VEVENT
DTSTART;TZID=Europe/Berlin:20260423T200000
DTEND;TZID=Europe/Berlin:20260423T220000
DTSTAMP:20260420T154701
CREATED:20260416T070051Z
LAST-MODIFIED:20260416T070051Z
UID:2545-1776974400-1776981600@www.ulli-lohr.de
SUMMARY:StandUpComedy\, Mad Monkey Room\, Berlin
DESCRIPTION:
URL:https://www.ulli-lohr.de/event/standupcomedy-mad-monkey-room-berlin/
LOCATION:Mad Monkey Room\, Danziger Straße 1\, 10435\, Berlin\, 10435\, Germany
CATEGORIES:Show Termine
ORGANIZER;CN="Mad Monkey Room":MAILTO:info@mad-monkey.de
END:VEVENT
BEGIN:VEVENT
DTSTART;TZID=Europe/Berlin:20260424T200000
DTEND;TZID=Europe/Berlin:20260424T220000
DTSTAMP:20260420T154701
CREATED:20260408T115126Z
LAST-MODIFIED:20260408T115126Z
UID:2530-1777060800-1777068000@www.ulli-lohr.de
SUMMARY:Gastauftritt\, Scheinbar Varieté Berlin
DESCRIPTION:
URL:https://www.ulli-lohr.de/event/gastauftritt-scheinbar-variete-berlin-31/
LOCATION:Scheinbar Varieté \, Berlin\, Monumentenst. 9\, 10829 Berlin\, 10829
CATEGORIES:Show Termine
END:VEVENT
BEGIN:VEVENT
DTSTART;TZID=Europe/Berlin:20260425T183000
DTEND;TZID=Europe/Berlin:20260425T200000
DTSTAMP:20260420T154701
CREATED:20260416T071122Z
LAST-MODIFIED:20260416T071450Z
UID:2551-1777141800-1777147200@www.ulli-lohr.de
SUMMARY:StandUpComedy\, Die Göre\, Berlin
DESCRIPTION:
URL:https://www.ulli-lohr.de/event/standupcomedy-die-goere-berlin-2/
LOCATION:Die Göre\, Palisadenstr.48\, Berlin - Friedrichshain\, Berlin\, 10243\, Germany
CATEGORIES:Show Termine
END:VEVENT
BEGIN:VEVENT
DTSTART;TZID=Europe/Berlin:20260425T200000
DTEND;TZID=Europe/Berlin:20260425T220000
DTSTAMP:20260420T154701
CREATED:20260408T115252Z
LAST-MODIFIED:20260408T115252Z
UID:2532-1777147200-1777154400@www.ulli-lohr.de
SUMMARY:Gastauftritt\, Scheinbar Varieté Berlin
DESCRIPTION:
URL:https://www.ulli-lohr.de/event/gastauftritt-scheinbar-variete-berlin-32/
LOCATION:Scheinbar Varieté \, Berlin\, Monumentenst. 9\, 10829 Berlin\, 10829
CATEGORIES:Show Termine
END:VEVENT
BEGIN:VEVENT
DTSTART;TZID=Europe/Berlin:20260425T203000
DTEND;TZID=Europe/Berlin:20260425T220000
DTSTAMP:20260420T154701
CREATED:20260416T070850Z
LAST-MODIFIED:20260416T073249Z
UID:2547-1777149000-1777154400@www.ulli-lohr.de
SUMMARY:StandUpComedy\, Die Göre\, Berlin
DESCRIPTION:
URL:https://www.ulli-lohr.de/event/standupcomedy-die-goere-berlin/
LOCATION:Die Göre\, Palisadenstr.48\, Berlin - Friedrichshain\, Berlin\, 10243\, Germany
CATEGORIES:Show Termine
END:VEVENT
BEGIN:VEVENT
DTSTART;TZID=Europe/Berlin:20260426T190000
DTEND;TZID=Europe/Berlin:20260426T210000
DTSTAMP:20260420T154701
CREATED:20260403T131514Z
LAST-MODIFIED:20260403T131514Z
UID:2511-1777230000-1777237200@www.ulli-lohr.de
SUMMARY:StandUpComedy SKOA-Comedy\, Berlin
DESCRIPTION:
URL:https://www.ulli-lohr.de/event/standupcomedy-skoa-comedy-berlin/
LOCATION:Restaurand 1896 Charlottenburg\, Pestalozzistr. 83\, 10627 Berlin\, Berlin\, 10627
CATEGORIES:Show Termine
END:VEVENT
BEGIN:VEVENT
DTSTART;TZID=Europe/Berlin:20260427T193000
DTEND;TZID=Europe/Berlin:20260427T213000
DTSTAMP:20260420T154701
CREATED:20260413T175936Z
LAST-MODIFIED:20260413T175936Z
UID:2537-1777318200-1777325400@www.ulli-lohr.de
SUMMARY:StandUpComedy\, Cosa Comedy Berlin
DESCRIPTION:
URL:https://www.ulli-lohr.de/event/standupcomedy-cosa-comedy-berlin/
LOCATION:Bar Voyage\, Nollendorfstr. 1\, 10783 Berlin\, 10783\, Germany
CATEGORIES:Show Termine
END:VEVENT
BEGIN:VEVENT
DTSTART;TZID=Europe/Berlin:20260501T210000
DTEND;TZID=Europe/Berlin:20260501T223000
DTSTAMP:20260420T154701
CREATED:20260416T072013Z
LAST-MODIFIED:20260416T072013Z
UID:2554-1777669200-1777674600@www.ulli-lohr.de
SUMMARY:StandUpComedy\, "Süss war Gestern"\, Berlin
DESCRIPTION:
URL:https://www.ulli-lohr.de/event/standupcomedy-suess-war-gestern-berlin/
LOCATION:Süss war gestern\, Wuhlischstr.43\, Berlin\, Berlin\, 10245\, Germany
CATEGORIES:Show Termine
END:VEVENT
BEGIN:VEVENT
DTSTART;TZID=Europe/Berlin:20260506T200000
DTEND;TZID=Europe/Berlin:20260506T220000
DTSTAMP:20260420T154701
CREATED:20260416T072651Z
LAST-MODIFIED:20260416T072651Z
UID:2558-1778097600-1778104800@www.ulli-lohr.de
SUMMARY:StandUpComedy\, Centre Bagatelle\, Berlin
DESCRIPTION:
URL:https://www.ulli-lohr.de/event/standupcomedy-centre-bagatelle-berlin/
LOCATION:Kulturhaus Centre Bagatelle\, Zeltinger Straße 6\, Berlin\, Berlin\, 13465\, Germany
CATEGORIES:Show Termine
END:VEVENT
BEGIN:VEVENT
DTSTART;TZID=Europe/Berlin:20260514T200000
DTEND;TZID=Europe/Berlin:20260514T220000
DTSTAMP:20260420T154701
CREATED:20260416T072847Z
LAST-MODIFIED:20260416T072937Z
UID:2562-1778788800-1778796000@www.ulli-lohr.de
SUMMARY:StandUpComedy\, Mad Monkey Room\, Berlin
DESCRIPTION:
URL:https://www.ulli-lohr.de/event/stabdupcomedy-mad-monkey-room-berlin/
LOCATION:Mad Monkey Room\, Danziger Straße 1\, 10435\, Berlin\, 10435\, Germany
CATEGORIES:Show Termine
ORGANIZER;CN="Mad Monkey Room":MAILTO:info@mad-monkey.de
END:VEVENT
BEGIN:VEVENT
DTSTART;TZID=Europe/Berlin:20260515T203000
DTEND;TZID=Europe/Berlin:20260515T223000
DTSTAMP:20260420T154701
CREATED:20260416T073108Z
LAST-MODIFIED:20260416T073108Z
UID:2568-1778877000-1778884200@www.ulli-lohr.de
SUMMARY:StandUpComedy\, "Süß war gestern"\, Berlin
DESCRIPTION:
URL:https://www.ulli-lohr.de/event/standupcomedy-suess-war-gestern-berlin-2/
LOCATION:Süss war gestern\, Wuhlischstr.43\, Berlin\, Berlin\, 10245\, Germany
CATEGORIES:Show Termine
END:VEVENT
BEGIN:VEVENT
DTSTART;TZID=Europe/Berlin:20260516T200000
DTEND;TZID=Europe/Berlin:20260516T220000
DTSTAMP:20260420T154701
CREATED:20260416T075139Z
LAST-MODIFIED:20260416T075139Z
UID:2574-1778961600-1778968800@www.ulli-lohr.de
SUMMARY:StandUpComedy\, Jagdhaus Spandau\, Berlin
DESCRIPTION:
URL:https://www.ulli-lohr.de/event/standupcomedy-jagdhaus-spandau-berlin/
LOCATION:Jagdhaus Spandau\, Niederneuendorfer Allee 80\, 13587 Berlin\, Berlin\, 13567\, Germany
CATEGORIES:Show Termine
END:VEVENT
BEGIN:VEVENT
DTSTART;TZID=Europe/Berlin:20260829T180000
DTEND;TZID=Europe/Berlin:20260829T203000
DTSTAMP:20260420T154701
CREATED:20260110T085151Z
LAST-MODIFIED:20260110T085151Z
UID:2462-1788026400-1788035400@www.ulli-lohr.de
SUMMARY:"Ein Kellner packt aus" (Auszug v. Programm)\,  Bad Belzig
DESCRIPTION:Das 12. Komische Festival „Belziger Bachstelze”\n28.08. – 29.08.2026 \nFrauentag: Freitag\, 28.08.2026\, 18 Uhr\nHerrentag: Samstag\, 29.08.2026\, 18 Uhr \nFestivalprogramm: \nDie Belziger Bachstelze ist ein Komisches Festival\, das die facettenreiche Palette des Humors feiert und einen Publikumsliebling des Tages kürt – kein Wettbewerb!\nAn zwei Tagen treten jeweils 4 Kabarettist*innen / Satiriker*innen / Comedian / Komiker*innen an\,\num durch die Gunst des Publikums die „Belziger Bachstelze” zu gewinnen.\nDie Gewinnerin und der Gewinner bestreiten 2027 eine ganze Veranstaltung im KKW KleinKunstWerk Bad Belzig.
URL:https://www.ulli-lohr.de/event/ein-kellner-packt-aus-auszug-v-programm-bad-belzig/
LOCATION:KKW KleinKunstWerk Bad Belzig\, Mühlenhölzchen 1a\, 14806 Bad Belzig\, Brandenburg\, 14807\, Germany
CATEGORIES:Show Termine
END:VEVENT
BEGIN:VEVENT
DTSTART;TZID=Europe/Berlin:20260906T190000
DTEND;TZID=Europe/Berlin:20260906T210000
DTSTAMP:20260420T154701
CREATED:20251105T161134Z
LAST-MODIFIED:20251105T161134Z
UID:2440-1788721200-1788728400@www.ulli-lohr.de
SUMMARY:Kleinkunstcocktail\, Gastauftritt im Zimmertheater-Steglitz
DESCRIPTION:
URL:https://www.ulli-lohr.de/event/kleinkunstcocktail-gastauftritt-im-zimmertheater-steglitz-6/
LOCATION:Zimmertheater Steglitz\, Bornstraße 17\,\, Berlin\, Berlin\, 12163
CATEGORIES:Show Termine
END:VEVENT
BEGIN:VEVENT
DTSTART;TZID=Europe/Berlin:20260919T200000
DTEND;TZID=Europe/Berlin:20260919T220000
DTSTAMP:20260420T154701
CREATED:20251105T155408Z
LAST-MODIFIED:20251105T155408Z
UID:2424-1789848000-1789855200@www.ulli-lohr.de
SUMMARY:Ein Kellner packt aus\, Soloshow in Berlin
DESCRIPTION:
URL:https://www.ulli-lohr.de/event/ein-kellner-packt-aus-soloshow-in-berlin-4/
LOCATION:Zimmertheater Steglitz\, Bornstraße 17\,\, Berlin\, Berlin\, 12163
CATEGORIES:Show Termine
END:VEVENT
BEGIN:VEVENT
DTSTART;TZID=Europe/Berlin:20260926T200000
DTEND;TZID=Europe/Berlin:20260926T220000
DTSTAMP:20260420T154701
CREATED:20251105T155739Z
LAST-MODIFIED:20251105T155739Z
UID:2426-1790452800-1790460000@www.ulli-lohr.de
SUMMARY:Ein Kellner packt aus\, Soloshow in Berlin
DESCRIPTION:
URL:https://www.ulli-lohr.de/event/ein-kellner-packt-aus-soloshow-in-berlin-10/
LOCATION:Zimmertheater Steglitz\, Bornstraße 17\,\, Berlin\, Berlin\, 12163
CATEGORIES:Show Termine
END:VEVENT
BEGIN:VEVENT
DTSTART;TZID=Europe/Berlin:20261004T190000
DTEND;TZID=Europe/Berlin:20261004T210000
DTSTAMP:20260420T154701
CREATED:20251105T161356Z
LAST-MODIFIED:20251105T161356Z
UID:2442-1791140400-1791147600@www.ulli-lohr.de
SUMMARY:Kleinkunstcocktail\, Gastauftritt im Zimmertheater-Steglitz
DESCRIPTION:
URL:https://www.ulli-lohr.de/event/kleinkunstcocktail-gastauftritt-im-zimmertheater-steglitz-7/
LOCATION:Zimmertheater Steglitz\, Bornstraße 17\,\, Berlin\, Berlin\, 12163
CATEGORIES:Show Termine
END:VEVENT
BEGIN:VEVENT
DTSTART;TZID=Europe/Berlin:20261024T200000
DTEND;TZID=Europe/Berlin:20261024T220000
DTSTAMP:20260420T154701
CREATED:20251105T155914Z
LAST-MODIFIED:20251105T155914Z
UID:2428-1792872000-1792879200@www.ulli-lohr.de
SUMMARY:Ein Kellner packt aus\, Soloshow in Berlin
DESCRIPTION:
URL:https://www.ulli-lohr.de/event/ein-kellner-packt-aus-soloshow-in-berlin-11/
LOCATION:Zimmertheater Steglitz\, Bornstraße 17\,\, Berlin\, Berlin\, 12163
CATEGORIES:Show Termine
END:VEVENT
BEGIN:VEVENT
DTSTART;TZID=Europe/Berlin:20261101T190000
DTEND;TZID=Europe/Berlin:20261101T210000
DTSTAMP:20260420T154701
CREATED:20251105T161516Z
LAST-MODIFIED:20251105T161516Z
UID:2444-1793559600-1793566800@www.ulli-lohr.de
SUMMARY:Kleinkunstcocktail\, Gastauftritt im Zimmertheater-Steglitz
DESCRIPTION:
URL:https://www.ulli-lohr.de/event/kleinkunstcocktail-gastauftritt-im-zimmertheater-steglitz-8/
LOCATION:Zimmertheater Steglitz\, Bornstraße 17\,\, Berlin\, Berlin\, 12163
CATEGORIES:Show Termine
END:VEVENT
BEGIN:VEVENT
DTSTART;TZID=Europe/Berlin:20261121T200000
DTEND;TZID=Europe/Berlin:20261121T220000
DTSTAMP:20260420T154701
CREATED:20251105T160200Z
LAST-MODIFIED:20251105T160200Z
UID:2430-1795291200-1795298400@www.ulli-lohr.de
SUMMARY:Ein Kellner packt aus\, Soloshow in Berlin
DESCRIPTION:
URL:https://www.ulli-lohr.de/event/ein-kellner-packt-aus-soloshow-in-berlin-12/
LOCATION:Zimmertheater Steglitz\, Bornstraße 17\,\, Berlin\, Berlin\, 12163
CATEGORIES:Show Termine
END:VEVENT
BEGIN:VEVENT
DTSTART;TZID=Europe/Berlin:20261128T200000
DTEND;TZID=Europe/Berlin:20261128T220000
DTSTAMP:20260420T154701
CREATED:20251105T160330Z
LAST-MODIFIED:20251105T160330Z
UID:2432-1795896000-1795903200@www.ulli-lohr.de
SUMMARY:Ein Kellner packt aus\, Soloshow in Berlin
DESCRIPTION:
URL:https://www.ulli-lohr.de/event/ein-kellner-packt-aus-soloshow-in-berlin-13/
LOCATION:Zimmertheater Steglitz\, Bornstraße 17\,\, Berlin\, Berlin\, 12163
CATEGORIES:Show Termine
END:VEVENT
END:VCALENDAR